BEGIN:VCALENDAR
VERSION:2.0
PRODID:-//Indus Art Gallery - ECPv6.15.20//NONSGML v1.0//EN
CALSCALE:GREGORIAN
METHOD:PUBLISH
X-ORIGINAL-URL:https://hatsof.hexvoxi.com
X-WR-CALDESC:Events for Indus Art Gallery
REFRESH-INTERVAL;VALUE=DURATION:PT1H
X-Robots-Tag:noindex
X-PUBLISHED-TTL:PT1H
BEGIN:VTIMEZONE
TZID:UTC
BEGIN:STANDARD
TZOFFSETFROM:+0000
TZOFFSETTO:+0000
TZNAME:UTC
DTSTART:20250101T000000
END:STANDARD
END:VTIMEZONE
BEGIN:VEVENT
DTSTART;VALUE=DATE:20260430
DTEND;VALUE=DATE:20260504
DTSTAMP:20260421T131525
CREATED:20260421T071447Z
LAST-MODIFIED:20260421T095808Z
UID:4331-1777507200-1777852799@hatsof.hexvoxi.com
SUMMARY:Awakening Buddha Purnima Art Exhibition 2026 | Kochi
DESCRIPTION:Awaken the art within.\nStep into a space where creativity meets consciousness. Experience a soulful collection of artworks inspired by peace\, mindfulness\, and enlightenment. \nFeaturing 20 renowned artists from Kerala and beyond\, showcasing mindful creations that reflect the spirit of Buddha Purnima. \n‘A serene journey through art’\nOrganized by Indus Art Centre\, DD Vyapar Bhavan\, Kadavanthara\, Ernakulam\, Kerala 682020
URL:https://hatsof.hexvoxi.com/event/awakening-buddha-purnima-art-exhibition-2026-kochi/
LOCATION:G Gallery\, Marine Drive\, Ernakulam\, Kerala 682020\, G Gallery\, Marine Drive\, Ernakulam\, Kerala 682020\, Ernakulam\, Kerala\, 682020\, India
ATTACH;FMTTYPE=image/jpeg:https://hatsof.hexvoxi.com/wp-content/uploads/2026/04/WhatsApp-Image-2026-04-21-at-12.06.07-AM.jpeg
ORGANIZER;CN="Indus Art Centre":MAILTO:nithyan1@gmail.com
END:VEVENT
END:VCALENDAR